BEGIN:VCALENDAR
VERSION:2.0
PRODID:-//tapahtumainfo.fi//NONSGML Yankee Stadium Premium Pregame Tour//EN
METHOD:REQUEST
BEGIN:VEVENT
UID:20260425T133505-1379469288-tapahtumainfo.fi
DTSTAMP:20260425T133505
DTSTART:20260721T020000Z
DTEND:20260721T020000Z
LOCATION:
SUMMARY:Yankee Stadium Premium Pregame Tour
DESCRIPTION:<html><head></head><body> <br /><br />  Visit event in our website: <a href='https://tapahtumainfo.fi/tapahtuma/2026/07/yankee-stadium-premium-pregame-tour/442947'>Tapahtumainfo.fi</a></body></html>
END:VEVENT
END:VCALENDAR
