BEGIN:VCALENDAR
VERSION:2.0
PRODID:-//tapahtumainfo.fi//NONSGML Yankee Stadium Premium Pregame Tour//EN
METHOD:REQUEST
BEGIN:VEVENT
UID:20260421T075317-1772255509-tapahtumainfo.fi
DTSTAMP:20260421T075317
DTSTART:20260812T020000Z
DTEND:20260812T020000Z
LOCATION:
SUMMARY:Yankee Stadium Premium Pregame Tour
DESCRIPTION:<html><head></head><body> <br /><br />  Visit event in our website: <a href='https://tapahtumainfo.fi/tapahtuma/2026/08/yankee-stadium-premium-pregame-tour/442971'>Tapahtumainfo.fi</a></body></html>
END:VEVENT
END:VCALENDAR
