BEGIN:VCALENDAR
VERSION:2.0
PRODID:-//tapahtumainfo.fi//NONSGML Putoamisen ääni//EN
METHOD:REQUEST
BEGIN:VEVENT
UID:20260421T202834-1652774204-tapahtumainfo.fi
DTSTAMP:20260421T202834
DTSTART:20260422T174000Z
DTEND:20260422T201500Z
LOCATION:Tapio, Joensuu, Tapio 4
SUMMARY:Putoamisen ääni
DESCRIPTION:<html><head></head><body>Cannesissa tuomariston palkinnon (Jury Prize) saanut Mascha Schilinskin ohjaama Putoamisen ääni on hienovireinen ja kiehtova draama, joka kietoo yhteen neljän sukupolven tyttöjen kohtaloita. <br /><br />Neljä tyttöä varttuu eri aikoina samalla maatilalla Pohjois-Saksassa. Vuosien saatossa talo muuttuu, mutta sen seinät kantavat mukanaan menneiden sukupolvien muistoja, perhesalaisuuksia ja traumoja. Aikojen erottamina, mutta paikan yhdistäminä heidän elämänsä alkavat peilata toisiaan yllättävillä tavoilla. <br /><br />  Visit event in our website: <a href='https://tapahtumainfo.fi/tapahtuma/2026/04/putoamisen-aani/442995'>Tapahtumainfo.fi</a></body></html>
END:VEVENT
END:VCALENDAR
