BEGIN:VCALENDAR
VERSION:2.0
PRODID:-//tapahtumainfo.fi//NONSGML Lee Cronin's The Mummy//EN
METHOD:REQUEST
BEGIN:VEVENT
UID:20260423T113731-2047624715-tapahtumainfo.fi
DTSTAMP:20260423T113731
DTSTART:20260422T182000Z
DTEND:20260422T203400Z
LOCATION:Tapio, Joensuu, Tapio 1
SUMMARY:Lee Cronin's The Mummy
DESCRIPTION:<html><head></head><body>Lee Cronin's The Mummy on armoton ja vertahyytävä kauhuelokuva, joka uudistaa ikonisen hirviömyytin. Pieni tyttö nimeltä Katie siepataan ja hän joutuu muinaisen kirouksen uhriksi. Kahdeksan vuoden kuluttua surun murtama perhe kokee järkytyksen, kun tyttö palautetaan heille, mutta iloisesta jälleennäkemisestä kehkeytyykin karmiva painajainen.<br /> <br /><br />  Visit event in our website: <a href='https://tapahtumainfo.fi/tapahtuma/2026/04/lee-cronin-s-the-mummy/442996'>Tapahtumainfo.fi</a></body></html>
END:VEVENT
END:VCALENDAR
