BEGIN:VCALENDAR
VERSION:2.0
PRODID:-//tapahtumainfo.fi//NONSGML Michael//EN
METHOD:REQUEST
BEGIN:VEVENT
UID:20260423T000656-1647374068-tapahtumainfo.fi
DTSTAMP:20260423T000656
DTSTART:20260423T180000Z
DTEND:20260423T200700Z
LOCATION:Tapio, Joensuu, Tapio 1
SUMMARY:Michael
DESCRIPTION:<html><head></head><body>Michael on suurelokuva yhden kaikkien aikojen vaikutusvaltaisimman taiteilijan elämästä ja perinnöstä.<br />Elokuva kertoo Michael Jacksonin tarinan, joka ulottuu myös musiikin ulkopuolelle. Se seuraa hänen matkaansa The Jackson 5:n uskomattoman lahjakkaasta keulahahmosta aina visionääriseksi artistiksi, jonka luovan kunnianhimon päätavoite oli tulla maailman suurimmaksi viihdyttäjäksi.<br />Tarina keskittyy Michaelin elämään konserttilavojen ulkopuolella ja soolouran alkuaikojen kuuluisimpiin esiintymisiin. Katsoja pääsee seuraamaan Michael Jacksonin elämää eturivistä ennennäkemättömällä tavalla. Tästä hänen tarinansa alkaa.<br /> <br /><br />  Visit event in our website: <a href='https://tapahtumainfo.fi/tapahtuma/2026/04/michael/442997'>Tapahtumainfo.fi</a></body></html>
END:VEVENT
END:VCALENDAR
