BEGIN:VCALENDAR
VERSION:2.0
PRODID:-//tapahtumainfo.fi//NONSGML Duudsonit-elokuva: Kotiinpaluu//EN
METHOD:REQUEST
BEGIN:VEVENT
UID:20260423T002405-1232739369-tapahtumainfo.fi
DTSTAMP:20260423T002405
DTSTART:20260422T170000Z
DTEND:20260422T183000Z
LOCATION:Killa, Savonlinna, Killa
SUMMARY:Duudsonit-elokuva: Kotiinpaluu
DESCRIPTION:<html><head></head><body>Duudsonit päättävät palata yhteen kuvatakseen uuden kokopitkän elokuvan legendaarisella Duudsonit Ranchilla. Hurjilla stunteilla ja hervottomilla piilokameroilla käynnistyvä jätkien reissu saa uuden käänteen, kun Jukan vauva Isabella päätyy yllättäen jätkien hoitoon. Duudsonit päätyvät keskelle yllättävää ja humoristista tapahtumaketjua, joka vaarantaa koko elokuvahankkeen onnistumisen. Paineet kasvavat – ja samalla Duudsonien ystävyys joutuu todelliselle koetukselle.<br /><br />Duudsoneiden Jarno ja HP vierailevat Iisalmen Kuvalippaassa torstaina 16.4. He avaavat klo 20.10 alkavan näytöksen ja ovat paikalla jo klo 19.30 elokuvateatterin aulassa. <br /><br />  Visit event in our website: <a href='https://tapahtumainfo.fi/tapahtuma/2026/04/duudsonit-elokuva-kotiinpaluu/443000'>Tapahtumainfo.fi</a></body></html>
END:VEVENT
END:VCALENDAR
