BEGIN:VCALENDAR
VERSION:2.0
PRODID:-//tapahtumainfo.fi//NONSGML Neulekino: Paholainen pukeutuu Pradaan 2//EN
METHOD:REQUEST
BEGIN:VEVENT
UID:20260421T052739-1013855204-tapahtumainfo.fi
DTSTAMP:20260421T052739
DTSTART:20260507T180000Z
DTEND:20260507T200000Z
LOCATION:Kuvalinna, Savonlinna, Kuvalinna
SUMMARY:Neulekino: Paholainen pukeutuu Pradaan 2
DESCRIPTION:<html><head></head><body>Neulekino-esitys Joensuun Tapiossa, Savonlinnan Kuvalinnassa, Varkauden Maximissa ja Iisalmen Kuvalippaassa to 7.5.<br /><br />Neulekinoon voi ottaa mukaan neuleen, virkkuun tai muun pienikokoisen käsityön ja katsoa sitä tehdessään samalla elokuvaa. Ketään katsomossa ei häiritse pieni kilinä, lankojen suhina tai kuiskauksetkaan neulomiskaverin kanssa. Neulekinoon voi tulla myös ilman käsityötä, mutta huomiothan tällöin näytöksen luonteen. <br />Salissa on puolivalot, jotta käsitöiden teko onnistuu paremmin.<br />Joensuun Neulekinossa yhteistyössä Taito Pohjois-Karjala ja Iisalmessa Käsityökammari EenaÅ.<br /><br />*****************************************************<br /><br />Lähes 20 vuotta sitten värikkäiden vaiheiden myötä ikonisiksi muodostuneet hahmot Miranda, Andy, Emily ja Nigel—Meryl Streep, Anne Hathaway, Emily Blunt ja Stanley Tucci palaavat New Yorkin muodikkaille kaduille ja Runway Magazinen hohdokkaaseen toimitukseen hartaasti odotetussa jatko-osassa vuoden 2006 elokuvatapaukselle, josta muodostui sukupolvikokemus. Mukana ovat kaikki alkuperäiset päänäyttelijät sekä ohjaaja David Frankel ja käsikirjoittaja Aline Brosh McKenna, ja heidän lisäkseen esiin marssitetaan kokonainen liuta uusia hahmoja mukaan lukien Kenneth Branagh, Simone Ashley, Justin Theroux, Lucy Liu, Patrick Brammall, Caleb Hearon, Helen J. Shen, Pauline Chalamet, B.J. Novak ja Conrad Ricamora. Myös Tracie Thoms ja Tibor Feldman palaavat ensimmäisen elokuvan Lilyn ja Irvin rooleihinsa. Elokuvan Paholainen pukeutuu Pradaan 2 on tuottanut Wendy Finerman sekä vastaavina tuottajina toimineet Michael Bederman, Karen Rosenfelt ja McKenna. Elokuva saa ensi-iltansa vain elokuvateattereissa 1. toukokuuta 2026. <br /><br />  Visit event in our website: <a href='https://tapahtumainfo.fi/tapahtuma/2026/05/neulekino-paholainen-pukeutuu-pradaan-2/443002'>Tapahtumainfo.fi</a></body></html>
END:VEVENT
END:VCALENDAR
