BEGIN:VCALENDAR
VERSION:2.0
PRODID:-//tapahtumainfo.fi//NONSGML Michael//EN
METHOD:REQUEST
BEGIN:VEVENT
UID:20260421T052348-1117239399-tapahtumainfo.fi
DTSTAMP:20260421T052348
DTSTART:20260423T183000Z
DTEND:20260423T203700Z
LOCATION:Kino-Hovi, Kitee, Kino-Hovi
SUMMARY:Michael
DESCRIPTION:<html><head></head><body>Michael on suurelokuva yhden kaikkien aikojen vaikutusvaltaisimman taiteilijan elämästä ja perinnöstä.<br />Elokuva kertoo Michael Jacksonin tarinan, joka ulottuu myös musiikin ulkopuolelle. Se seuraa hänen matkaansa The Jackson 5:n uskomattoman lahjakkaasta keulahahmosta aina visionääriseksi artistiksi, jonka luovan kunnianhimon päätavoite oli tulla maailman suurimmaksi viihdyttäjäksi.<br />Tarina keskittyy Michaelin elämään konserttilavojen ulkopuolella ja soolouran alkuaikojen kuuluisimpiin esiintymisiin. Katsoja pääsee seuraamaan Michael Jacksonin elämää eturivistä ennennäkemättömällä tavalla. Tästä hänen tarinansa alkaa.<br /> <br /><br />  Visit event in our website: <a href='https://tapahtumainfo.fi/tapahtuma/2026/04/michael/443009'>Tapahtumainfo.fi</a></body></html>
END:VEVENT
END:VCALENDAR
