BEGIN:VCALENDAR
VERSION:2.0
PRODID:-//tapahtumainfo.fi//NONSGML K-Supermarket Tapiolan Pihvifestarit//EN
METHOD:REQUEST
BEGIN:VEVENT
UID:20260422T030410-971371148-tapahtumainfo.fi
DTSTAMP:20260422T030410
DTSTART:20260424T210000Z
DTEND:20260425T020000Z
LOCATION:K-Supermarket Tapiola
SUMMARY:K-Supermarket Tapiolan Pihvifestarit
DESCRIPTION:<html><head></head><body><p>Tapiolan Pihvifestarit tuo K-Supermarket Tapiolan edustalle kaksipäiväisen tapahtuman, jossa pääset maistamaan ja ostamaan erityislaatuisia lihoja, joita ei normaalisti löydy kaupan tiskiltä.</p><p>Tarjolla on tarkoin valikoituja premium-pihvejä USA:sta ja Australiasta tarjoushintaan sekä aitoa japanilaista Kobe-nautaa. Festareiden pop-up lihatiskiltä lihamestareiden valmiiksi leikattuja ja pakattuja pihvejä, jotka on helppo ottaa mukaan ja valmistaa kotona.</p><p>Paikan päällä saat myös vinkkejä, reseptejä ja käytännön neuvoja laadukkaan lihan valintaan ja valmistukseen.</p><p><b>Perjantai 24.4. klo 10–18</b></p><p>Atrian keittiömestari Jarmo “Jame” Ritvanen<br>Pihvimies Tom Lundgren<br>Johan i Hallen &amp; Bergfalk – lihamestarit</p><p><b>Lauantai 25.4. klo 10–18</b><br>Suomen kokkimaajoukkue opastaa aidon Kobe-naudan ja premium-pihvien saloihin<br>Johan i Hallen &amp; Bergfalk – lihamestarit</p><h3>Huutokauppakeisari Aki Palsanmäki lavalla</h3><p>Tapahtumassa nähdään myös huutokauppakeisari Aki Palsanmäki, joka vetää huutokaupan. Huutokauppakeisari kauppaa premium-pihvisettejä, mm. aidosta Kobe-naudasta</p><p>Tarjolla on mahdollisuus huutaa itselleen maailman mittakaavan huippulihaa – erikoiseriä, joita ei tavallisesti löydy kaupan tiskiltä. Huutokauppa järjestetään lauantaina kello 13–15.</p><p><br></p><p><br></p> <br /><br />  Visit event in our website: <a href='https://tapahtumainfo.fi/tapahtuma/2026/04/k-supermarket-tapiolan-pihvifestarit/443010'>Tapahtumainfo.fi</a></body></html>
END:VEVENT
END:VCALENDAR
