BEGIN:VCALENDAR
VERSION:2.0
PRODID:-//tapahtumainfo.fi//NONSGML Sunnuntaivieras: Pariakrobatia//EN
METHOD:REQUEST
BEGIN:VEVENT
UID:20260422T191010-1865351731-tapahtumainfo.fi
DTSTAMP:20260422T191010
DTSTART:20260524T020000Z
DTEND:20260524T020000Z
LOCATION:Sirkus Magenta, kauppakeskus Itis
SUMMARY:Sunnuntaivieras: Pariakrobatia
DESCRIPTION:<html><head></head><body><p>Sunnuntaivieras -kurssisarjan toisessa osassa sukelletaan pariakrobatian maailmaan!</p><p>Aikuisille suunnatulla kurssilla tutustutaan sekä pariakrobatian lentäjälle että pohjalle oleellisiin oheisharjoituksiin, ja harjoitellaan vaikeampien liikkeiden kautta turvallista ja pitkäjänteistä tekniikkaa.</p><p>Ennakkovaatimuksena kurssille osallistumiseen on hartioilla seisonta eli tolppa. Kurssilla ei käytetä turvanaruja tai lonssia. Kurssille tulee ilmoittautua parina.</p><p>Ohjaajina toimivat Ira ja Jere ovat kaksi suomalaista sirkusartistia, joiden yhteinen taival pariakrobatian parissa jatkuu nyt kymmenettä vuotta. He ovat esiintyneet Suomessa ja Euroopassa muun muassa kaduilla, teattereissa, palvelutaloissa, kouluissa, päiväkodeissa sekä esittävän taiteen festivaaleilla.</p><p>Ilmoittautuminen Sirkus Magentan nettisivuilla.</p><br> <br /><br />  Visit event in our website: <a href='https://tapahtumainfo.fi/tapahtuma/2026/05/sunnuntaivieras-pariakrobatia/443012'>Tapahtumainfo.fi</a></body></html>
END:VEVENT
END:VCALENDAR
