BEGIN:VCALENDAR
VERSION:2.0
PRODID:-//tapahtumainfo.fi//NONSGML Hangö Teaterträff 2026//EN
METHOD:REQUEST
BEGIN:VEVENT
UID:20260424T114411-334686017-tapahtumainfo.fi
DTSTAMP:20260424T114411
DTSTART:20260605T020000Z
DTEND:20260607T020000Z
LOCATION:Hanko
SUMMARY:Hangö Teaterträff 2026
DESCRIPTION:<html><head></head><body>Tervetuloa Hangö Teaterträff -festivaalille 5.–7.6.2026!<div><br>Hangö Teaterträff on jokavuotinen näyttämötaiteen festivaali Hangon aurinkoisissa saaristomaisemissa. Vuoden ohjelmaan sisältyy kantaesityksiä, kotimaisia ja kansainvälisiä vierailuja, lasten- ja nuortenesityksiä sekä klubi- ja keskusteluohjelmaa.<br><br></div><div>Festivaaliohjelma:</div><div>https://www.hangoteatertraff.org/fi/program/<br><br></div><div>Liput:</div><div>https://fienta.com/fi/o/21380</div> <br /><br />  Visit event in our website: <a href='https://tapahtumainfo.fi/tapahtuma/2026/06/hango-teatertraff-2026/443014'>Tapahtumainfo.fi</a></body></html>
END:VEVENT
END:VCALENDAR
