BEGIN:VCALENDAR
VERSION:2.0
PRODID:-//tapahtumainfo.fi//NONSGML SOLISTIKUNNAN JOULUKONSERTTI//EN
METHOD:REQUEST
BEGIN:VEVENT
UID:20260422T193200-1967209856-tapahtumainfo.fi
DTSTAMP:20260422T193200
DTSTART:20121202T180000Z
DTEND:20121202T020000Z
LOCATION:Temppeliaukion kirkko
SUMMARY:SOLISTIKUNNAN JOULUKONSERTTI
DESCRIPTION:<html><head></head><body><b>Kansallisoopperan Solistikunta ry:n perinteinen joulukonsertti</b><br><br>Laulusolistit ja soitinyhtye esittÃ¤vÃ¤t kauneimpia kotimaisia ja kansainvÃ¤lisiÃ¤ joululauluja Tallinnan Estoniateatterin solistit vierailevat. Suomen Kansallisoopperan solistit: sopraanot Hanna Rantala ja Tove Ã…man, tenori Juha RiihimÃ¤ki, mezzot Niina Keitel, Riikka Rantanen ja Lilli Paasikivi, bassot Hannu Forsberg ja Mika Kares, baritoni Waltteri Torikka <br><br>Estoniateatterin vierailevat tÃ¤hdet: sopraanot Heli Veskus ja Kristel PÃ¤rtna sekÃ¤ baritoni Rauno Elp. <br><br>Soitinyhtye: urkuri Pete Vuorio, pianisti Riitta Ingelin, huilisti Timo Pulakka, altto Tuula Riisalo, viulu Kreetta Hannula, Sello Risto Fredriksson <br><br>Esityksen kesto n. 1h 15min<br><br>Temppeliaukion kirkossa<br>su 2.12 klo 18<br>Liput 20/10 (opiskelijat, lapset alle 12v) <br /><br />  Visit event in our website: <a href='https://tapahtumainfo.fi/tapahtuma/2012/12/solistikunnan-joulukonsertti/64292'>Tapahtumainfo.fi</a></body></html>
END:VEVENT
END:VCALENDAR
