BEGIN:VCALENDAR
VERSION:2.0
PRODID:-//tapahtumainfo.fi//NONSGML Joulurauhan julistus 2022//EN
METHOD:REQUEST
BEGIN:VEVENT
UID:20260422T053310-714632135-tapahtumainfo.fi
DTSTAMP:20260422T053310
DTSTART:20221224T120000Z
DTEND:20221224T020000Z
LOCATION:Turun Vanha Suurtori
SUMMARY:Joulurauhan julistus 2022
DESCRIPTION:<html><head></head><body><p>Joulurauha on vanhaan <a href="https://fi.wikipedia.org/wiki/Pohjoismaat" title="Pohjoismaat" style="background-color: white;">pohjoismaiseen</a> <a href="https://fi.wikipedia.org/wiki/Laki" title="Laki" style="background-color: white;">lainsäädäntöön</a> kuulunut määräys 20 päivää kestäneestä ajanjaksosta joulun aikana. <a href="https://fi.wikipedia.org/wiki/Keskiaika" title="Keskiaika" style="background-color: white;">Keskiajalla</a> <a href="https://fi.wikipedia.org/wiki/Ruotsi" title="Ruotsi" style="background-color: white;">Ruotsissa</a> joulurauha oli <a href="https://fi.wikipedia.org/wiki/Kuninkaanrauha" title="Kuninkaanrauha" style="background-color: white;">kuninkaanrauha</a>, jonka kautta hallitsija käytti tuomiovaltaansa sukuyhteisöjen yli.&nbsp;Joulurauhan aikana tehdyistä rikkomuksista annetut rangaistukset olivat ankarampia kuin muulloin.</p><pstyle="margin: 0.5em="" 0px;="" color:="" rgb(32,="" 33,="" 34);="" font-family:="" sans-serif;="" font-size:="" 14px;"=""><p></p><p>Joulurauhaa tarvittiin, koska juhlapyhien tuoma vapaa-aika saattoi tuottaa levottomuuksia. Kristillisissä maissa sodankäynti&nbsp;on usein haluttu keskeyttää jouluaattona. Monissa kaupungeissa tuli tavaksi, että joku kaupungin virkamiehistä julistaa jouluaattona julkisesti joulurauhan.</p><p>Joulurauha julistetaan jouluaattona klo 12 Vanhalla Suurtorilla suomeksi ja ruotsiksi. Vuonna 2022 yleisö on taas tervetullut joulurauhan julistukseen.</p><p>Turun kaupungin protokollapäällikkö<strong> Mika Akkanen</strong> lukee joulurauhan julistuksen Brinkkalan talon parvekkeelta jouluaattona 24.12.2022 kello 12.</p><p>Tilaisuus kulkee totuttuun tapaan seuraavasti:</p><ul><li>klo 11.57 Jumala ompi linnamme – virsi 170; 1, 4 </li><li>klo 12.00 Turun Tuomiokirkon kello lyö 12. Alkufanfaari Marsalkan hopeatorvet marssista, säv. Artturi Rope</li><li>Suomen Turku julistaa joulurauhan, protokollapäällikkö Mika Akkanen</li><li>Maamme-laulu (1. suomi, 1. ruotsi, 2. suomi)</li><li>Porilaisten marssi</li></ul><p>Tilaisuutta voi seurata Yleisradion ja internetin välityksellä. Lähetys alkaa klo 11.55. Yle Areena tarjoaa myös viittomakielisen lähetyksen</p></pstyle="margin:> <br /><br />  Visit event in our website: <a href='https://tapahtumainfo.fi/tapahtuma/2022/12/joulurauhan-julistus-2022/297743'>Tapahtumainfo.fi</a></body></html>
END:VEVENT
END:VCALENDAR
