BEGIN:VCALENDAR
VERSION:2.0
PRODID:-//tapahtumainfo.fi//NONSGML Arkadia-teatteri//EN
METHOD:REQUEST
BEGIN:VEVENT
UID:20260422T130913-619229485-tapahtumainfo.fi
DTSTAMP:20260422T130913
DTSTART:20211103T020000Z
DTEND:20500101T020000Z
LOCATION:Teatterimuseo
SUMMARY:Arkadia-teatteri
DESCRIPTION:<html><head></head><body>Arkadia-teatteri valmistui jo Teatterimuseon ensimmÃ¤iseen pysyvÃ¤Ã¤n nÃ¤yttelyyn vuonna 1999. C. L. Engelin Helsinkiin 1820-luvulla suunnitteleman teatterirakennuksen pienikokoinen kaksoisolento muodostui pian kÃ¤vijÃ¶iden suosikiksi.<br><br>Teatterimuseon Arkadia-teatterin nÃ¤yttÃ¤mÃ¶aukon leveys ja korkeus on puolet alkuperÃ¤isestÃ¤ Arkadia-teatterista ja kaaren koristeet sekÃ¤ esirippu ja kulissit on tehty Engelin luonnosten pohjalta. MyÃ¶s pukuhuoneeseen, jonne pÃ¤Ã¤see nÃ¤yttÃ¤mÃ¶n takanurkasta, on haluttu tuoda 1800-luvun teatterin tunnelmaa.<br><br>Arkadia-teatterin nimessÃ¤kin on historian havinaa. SamannimisessÃ¤ teatterissa HelsingissÃ¤ esiintyi ensimmÃ¤inen suomenkielinen ammattiteatteri, Suomalainen Teatteri 1800-luvun loppuvuosikymmeninÃ¤. Suomalainen Teatteri nÃ¤kyy myÃ¶s nÃ¤yttÃ¤mÃ¶n vastaisella seinÃ¤llÃ¤ olevassa dioraamassa, jossa on esillÃ¤ nÃ¤yttelyn vanhinta aineistoa, pukuja ja esineistÃ¶Ã¤ 1800-luvulta.<br><br>Teatterin pukuhuoneessa voi vaihtaa roolia ja pukeutua unelmien sankariksi, primadonnaksi tai vaikka tiikeriksi. Esiripun avautuessa paikka valokiilassa on vapaa!<br> <br /><br />  Visit event in our website: <a href='https://tapahtumainfo.fi/tapahtuma/2021/11/arkadia-teatteri/320619'>Tapahtumainfo.fi</a></body></html>
END:VEVENT
END:VCALENDAR
