BEGIN:VCALENDAR
VERSION:2.0
PRODID:-//tapahtumainfo.fi//NONSGML Luovuutta luonnostaan//EN
METHOD:REQUEST
BEGIN:VEVENT
UID:20260421T014146-491904776-tapahtumainfo.fi
DTSTAMP:20260421T014146
DTSTART:20231213T020000Z
DTEND:20501231T020000Z
LOCATION:Saarijärven museo
SUMMARY:Luovuutta luonnostaan
DESCRIPTION:<html><head></head><body>Saarijärven museon perusnäyttelyssä on esillä kuvataidetta noin 100 vuoden ajalta saarijärveläisiltä ja saarijärveläissyntyisiltä taiteilijoilta sekä paikkakunnalla tehtyä tai siihen liittyvää taidetta myös muilta taiteilijoilta. Näyttelyn teokset ovat Saarijärven museon hallinnoimista Saarijärven kaupungin, Beda, Katri ja Aune Heralan säätiön sekä Saarijärven Mannilan Taidesäätiön taidekokoelmista.<br><br>Näyttely on esillä pysyvästi museon Autere-salissa, jonka vihkivät käyttöön Autere-suvun edustajat 7. helmikuuta 2020. Sali on nimetty Saarijärven kuvataiteen isän Hannes Autereen mukaan taiteilijan pojanpojan Jukka Autereen esityksestä. Jukka Autere on tukenut merkittävästi museota vuonna 2018 perustetun Saarijärven museon ystävät ry:n Saarijärven kulttuurin tukirahoituksen kautta. Ystäväyhdistys on mahdollistanut rahoitustuellaan museon laadukkaat tapahtumat ja näyttelyt &ndash; myös Saarijärven kuvataiteen perusnäyttelyn.<br><br>Luovuutta luonnostaan &ndash; Saarijärven kuvataiteen perusnäyttely on avoinna 13.12.2023 alkaen museon vaihtuvien näyttelyiden esilläoloaikojen mukaisesti. <br /><br />  Visit event in our website: <a href='https://tapahtumainfo.fi/tapahtuma/2023/12/luovuutta-luonnostaan/333863'>Tapahtumainfo.fi</a></body></html>
END:VEVENT
END:VCALENDAR
