BEGIN:VCALENDAR
VERSION:2.0
PRODID:-//tapahtumainfo.fi//NONSGML Oblivia: En tidsresa//EN
METHOD:REQUEST
BEGIN:VEVENT
UID:20260423T100528-165008794-tapahtumainfo.fi
DTSTAMP:20260423T100528
DTSTART:20250914T020000Z
DTEND:20250914T020000Z
LOCATION:Ratikkamuseo
SUMMARY:Oblivia: En tidsresa
DESCRIPTION:<html><head></head><body><p><br></p><p>Vuosi 2000 – Helsinki oli kulttuuripääkaupunki, kaupunki kylpi taiteessa ja Oblivia syntyi. Vuoden aikana Oblivia teki neljä paikkasidonnaista esitystä osana Rötter, Röster, Rum -hanketta. Tänä vuonna Oblivia juhlii 25-vuotisjuhlaansa ja palaa juurilleen ja niihin tiloihin, joissa he silloin olivat.</p><p>Kävelyesitys En tidsresa on leppoisa vaellus Oblivian alkuvuosien paikkojen välillä. Esityksen aikana pysähdymme pohtimaan menneisyyttä ja muuttunutta kaupunkia. Kävelyoppaina toimivat Annika Tudeer, Oblivian perustaja ja taiteellinen johtaja, sekä Timo Fredriksson, Oblivian perustajajäsen, muusikko ja esiintyjä.</p><p>Esitys alkaa Ratikkamuseosta, jossa Oblivian ensimmäinen teos Att tänka på flygning tehtiin, ja jatkuu Talvipuutarhaan, jossa Abborrens dilemma sai ensi-iltansa. Linnunlaulun alueella pidetään tauko, jonka aikana voi ostaa kahvia tai teetä. Taival päättyy entiselle VR:n makasiinit -alueelle, jossa What Where -teos esitettiin.</p><br><p>Kesto: 2 h väliajalla</p><p>Kielet: ruotsi (vähän englantia)</p><br><p>Liput: https://fienta.com/fi/s/oblivia-en-tidsresa</p><p>Huom! Rajoitettu määrä paikkoja, varaa paikkasi ajoissa. Huomioithan myös, että reitti ei ole esteetön (raput Talvipuutarhassa ja jyrkkä alamäki reitin varrella).</p><br><p>Esiintyjät: Annika Tudeer, Timo Fredriksson</p><p>Graafinen suunnittelu:Jenni Salminen (Röd)</p><p>Viestintä: Essi Brunberg</p><p>Tuotanto:Jenny Nordlund</p><p>Tukijat: Helsingin kaupunki, Konstsamfundet, Stiftelsen Tre Smeder, Svenska kulturfonden</p><br> <br /><br />  Visit event in our website: <a href='https://tapahtumainfo.fi/tapahtuma/2025/09/oblivia-en-tidsresa/403008'>Tapahtumainfo.fi</a></body></html>
END:VEVENT
END:VCALENDAR
