BEGIN:VCALENDAR
VERSION:2.0
PRODID:-//tapahtumainfo.fi//NONSGML Eanangiella - Maan kieli//EN
METHOD:REQUEST
BEGIN:VEVENT
UID:20260425T214659-2126128034-tapahtumainfo.fi
DTSTAMP:20260425T214659
DTSTART:20260116T020000Z
DTEND:20260503T020000Z
LOCATION:Oulun taidemuseo
SUMMARY:Eanangiella - Maan kieli
DESCRIPTION:<html><head></head><body>Saamelaisen kulttuurin kestÃ¤vyys ja kauneus nousevat pÃ¤Ã¤osaan Oulun taidemuseon kokonaan haltuunsa ottavassa, laajassa nÃ¤yttelyssÃ¤. Kulttuuri, saamen kielet ja hengellisyys ovat yhÃ¤ elossa 400 vuotta kestÃ¤neen kolonialismin jÃ¤lkeen. Vahvat siteet kytkevÃ¤t ihmiset omaan kulttuuriinsa ja, kun on kyse alkuperÃ¤iskansasta, myÃ¶s maihinsa.<br><br>Eanangiella â Maan kieli -nÃ¤yttely on osa Oulun Euroopan kulttuuripÃ¤Ã¤kaupunkivuoden ohjelmaa. NÃ¤yttelyn kuraattorit ovat Inga-Wiktoria PÃ¥ve, Fredrik Prost ja Ãilu Valle, ja sen teemoja ovat esivanhemmat, muistojen polut, maailmojen vÃ¤lissÃ¤, maa, vihreÃ¤ kolonialismi, hengellisyys ja elÃ¤mÃ¤n koristeet.<br><br>NÃ¤yttelyyn osallistuu noin 70 taiteilijaa ja duojÃ¡ria Saamenmaalta. Koettavissa on monimediaista nykytaidetta ja taidehistoriallisia teoksia, duodjia eli saamenkÃ¤sityÃ¶tÃ¤ eri sukupolvilta sekÃ¤ Ã¤Ã¤nimaisemia. Osana nÃ¤yttelyÃ¤ nÃ¤hdÃ¤Ã¤n myÃ¶s SÃ¡pmi Triennale -kiertonÃ¤yttelykokonaisuus, joka limittyy yhteen Eanangiellan ripustuksen kanssa.<br><br>NÃ¤yttelyn aikana saamelaisen kulttuurin rikkautta juhlistetaan runsaan oheisohjelman kautta. Luvassa on mm. musiikkia, tyÃ¶pajoja ja monikielisiÃ¤ opastuksia. NÃ¤yttely suljetaan porrastetusti: ylÃ¤kerta 19.4. ja pohjakerros 3.5.2026.<br><br>NÃ¤yttelyssÃ¤ nÃ¤hdÃ¤Ã¤n myÃ¶s teoksia ja esineitÃ¤ seuraavista kokoelmista: Saamelaismuseo Siida, Museo-Galleria Andreas Alariesto, Ruotsin tunturi- ja saamelaismuseo Ãjtte ja RiddoDuottarMuseat â SÃ¡mi DÃ¡iddamagasiidna (Norja).<br><br>Eanangiella â Maan kieli -nÃ¤yttelyn pÃ¤Ã¤toteuttaja on Oulun kulttuurisÃ¤Ã¤tiÃ¶ yhteistyÃ¶ssÃ¤ Oulun taidemuseon kanssa. NÃ¤yttelyn yhteistyÃ¶kumppaneita ovat Giellagas-instituutti (Oulun yliopisto) ja Oulu SÃ¡mit ry. NÃ¤yttelyn toteuttamista ovat tukeneet SKR â Suomen kulttuurirahasto ja Suomalais-norjalainen kulttuuri-instituutti FINNO.<br><br>NÃ¤yttely on osa Risku-kokonaisuutta, josta voit lukea lisÃ¤Ã¤ Oulu2026:n verkkosivuilta: https://oulu2026.eu/ohjelma/kulttuuriohjelma/risku/ <br /><br />  Visit event in our website: <a href='https://tapahtumainfo.fi/tapahtuma/2026/01/eanangiella-maan-kieli/415967'>Tapahtumainfo.fi</a></body></html>
END:VEVENT
END:VCALENDAR
